BEGIN:VCALENDAR
VERSION:2.0
PRODID:-//EBC Waiblingen - ECPv6.15.17.1//NONSGML v1.0//EN
CALSCALE:GREGORIAN
METHOD:PUBLISH
X-WR-CALNAME:EBC Waiblingen
X-ORIGINAL-URL:https://ebc-waiblingen.de
X-WR-CALDESC:Veranstaltungen für EBC Waiblingen
REFRESH-INTERVAL;VALUE=DURATION:PT1H
X-Robots-Tag:noindex
X-PUBLISHED-TTL:PT1H
BEGIN:VTIMEZONE
TZID:Europe/Paris
BEGIN:DAYLIGHT
TZOFFSETFROM:+0100
TZOFFSETTO:+0200
TZNAME:CEST
DTSTART:20230326T010000
END:DAYLIGHT
BEGIN:STANDARD
TZOFFSETFROM:+0200
TZOFFSETTO:+0100
TZNAME:CET
DTSTART:20231029T010000
END:STANDARD
BEGIN:DAYLIGHT
TZOFFSETFROM:+0100
TZOFFSETTO:+0200
TZNAME:CEST
DTSTART:20240331T010000
END:DAYLIGHT
BEGIN:STANDARD
TZOFFSETFROM:+0200
TZOFFSETTO:+0100
TZNAME:CET
DTSTART:20241027T010000
END:STANDARD
BEGIN:DAYLIGHT
TZOFFSETFROM:+0100
TZOFFSETTO:+0200
TZNAME:CEST
DTSTART:20250330T010000
END:DAYLIGHT
BEGIN:STANDARD
TZOFFSETFROM:+0200
TZOFFSETTO:+0100
TZNAME:CET
DTSTART:20251026T010000
END:STANDARD
BEGIN:DAYLIGHT
TZOFFSETFROM:+0100
TZOFFSETTO:+0200
TZNAME:CEST
DTSTART:20260329T010000
END:DAYLIGHT
BEGIN:STANDARD
TZOFFSETFROM:+0200
TZOFFSETTO:+0100
TZNAME:CET
DTSTART:20261025T010000
END:STANDARD
END:VTIMEZONE
BEGIN:VEVENT
DTSTART;TZID=Europe/Paris:20250202T103000
DTEND;TZID=Europe/Paris:20250202T123000
DTSTAMP:20260420T164604
CREATED:20230827T200201Z
LAST-MODIFIED:20241219T204400Z
UID:2307-1738492200-1738499400@ebc-waiblingen.de
SUMMARY:Gottesdienst
DESCRIPTION:
URL:https://ebc-waiblingen.de/termin/gottesdienst-73/
LOCATION:EBC Waiblingen\, Bahnhofstraße 5\, Waiblingen\, 71332\, Germany
CATEGORIES:Gottesdienste
END:VEVENT
BEGIN:VEVENT
DTSTART;TZID=Europe/Paris:20250129T190000
DTEND;TZID=Europe/Paris:20250129T200000
DTSTAMP:20260420T164604
CREATED:20230818T140642Z
LAST-MODIFIED:20241219T204535Z
UID:2317-1738177200-1738180800@ebc-waiblingen.de
SUMMARY:Gebetsabend
DESCRIPTION:
URL:https://ebc-waiblingen.de/termin/gebetsabend-73/
LOCATION:EBC Waiblingen\, Bahnhofstraße 5\, Waiblingen\, 71332\, Germany
CATEGORIES:Gottesdienste
END:VEVENT
BEGIN:VEVENT
DTSTART;TZID=Europe/Paris:20250126T103000
DTEND;TZID=Europe/Paris:20250126T123000
DTSTAMP:20260420T164604
CREATED:20230827T200201Z
LAST-MODIFIED:20241219T204350Z
UID:2305-1737887400-1737894600@ebc-waiblingen.de
SUMMARY:Gottesdienst
DESCRIPTION:
URL:https://ebc-waiblingen.de/termin/gottesdienst-72/
LOCATION:EBC Waiblingen\, Bahnhofstraße 5\, Waiblingen\, 71332\, Germany
CATEGORIES:Gottesdienste
END:VEVENT
BEGIN:VEVENT
DTSTART;TZID=Europe/Paris:20250122T190000
DTEND;TZID=Europe/Paris:20250122T200000
DTSTAMP:20260420T164604
CREATED:20230818T140642Z
LAST-MODIFIED:20241219T204524Z
UID:2315-1737572400-1737576000@ebc-waiblingen.de
SUMMARY:Gebetsabend
DESCRIPTION:
URL:https://ebc-waiblingen.de/termin/gebetsabend-72/
LOCATION:EBC Waiblingen\, Bahnhofstraße 5\, Waiblingen\, 71332\, Germany
CATEGORIES:Gottesdienste
END:VEVENT
BEGIN:VEVENT
DTSTART;TZID=Europe/Paris:20250119T103000
DTEND;TZID=Europe/Paris:20250119T123000
DTSTAMP:20260420T164604
CREATED:20230827T200201Z
LAST-MODIFIED:20241219T204339Z
UID:2303-1737282600-1737289800@ebc-waiblingen.de
SUMMARY:Gottesdienst
DESCRIPTION:
URL:https://ebc-waiblingen.de/termin/gottesdienst-71/
LOCATION:EBC Waiblingen\, Bahnhofstraße 5\, Waiblingen\, 71332\, Germany
CATEGORIES:Gottesdienste
END:VEVENT
BEGIN:VEVENT
DTSTART;TZID=Europe/Paris:20250115T190000
DTEND;TZID=Europe/Paris:20250115T200000
DTSTAMP:20260420T164604
CREATED:20230818T140642Z
LAST-MODIFIED:20241219T204513Z
UID:2313-1736967600-1736971200@ebc-waiblingen.de
SUMMARY:Gebetsabend
DESCRIPTION:
URL:https://ebc-waiblingen.de/termin/gebetsabend-71/
LOCATION:EBC Waiblingen\, Bahnhofstraße 5\, Waiblingen\, 71332\, Germany
CATEGORIES:Gottesdienste
END:VEVENT
BEGIN:VEVENT
DTSTART;TZID=Europe/Paris:20250112T103000
DTEND;TZID=Europe/Paris:20250112T123000
DTSTAMP:20260420T164604
CREATED:20230827T200201Z
LAST-MODIFIED:20241219T204328Z
UID:2301-1736677800-1736685000@ebc-waiblingen.de
SUMMARY:Gottesdienst
DESCRIPTION:
URL:https://ebc-waiblingen.de/termin/gottesdienst-70/
LOCATION:EBC Waiblingen\, Bahnhofstraße 5\, Waiblingen\, 71332\, Germany
CATEGORIES:Gottesdienste
END:VEVENT
BEGIN:VEVENT
DTSTART;TZID=Europe/Paris:20250108T190000
DTEND;TZID=Europe/Paris:20250108T200000
DTSTAMP:20260420T164604
CREATED:20230818T140642Z
LAST-MODIFIED:20241219T204435Z
UID:2311-1736362800-1736366400@ebc-waiblingen.de
SUMMARY:Gebetsabend
DESCRIPTION:
URL:https://ebc-waiblingen.de/termin/gebetsabend-70/
LOCATION:EBC Waiblingen\, Bahnhofstraße 5\, Waiblingen\, 71332\, Germany
CATEGORIES:Gottesdienste
END:VEVENT
BEGIN:VEVENT
DTSTART;TZID=Europe/Paris:20250105T103000
DTEND;TZID=Europe/Paris:20250105T123000
DTSTAMP:20260420T164604
CREATED:20230827T200201Z
LAST-MODIFIED:20241219T204316Z
UID:2299-1736073000-1736080200@ebc-waiblingen.de
SUMMARY:Gottesdienst
DESCRIPTION:
URL:https://ebc-waiblingen.de/termin/gottesdienst-69/
LOCATION:EBC Waiblingen\, Bahnhofstraße 5\, Waiblingen\, 71332\, Germany
CATEGORIES:Gottesdienste
END:VEVENT
BEGIN:VEVENT
DTSTART;TZID=Europe/Paris:20250101T190000
DTEND;TZID=Europe/Paris:20250101T200000
DTSTAMP:20260420T164604
CREATED:20230818T140642Z
LAST-MODIFIED:20241219T204423Z
UID:2309-1735758000-1735761600@ebc-waiblingen.de
SUMMARY:Gebetsabend
DESCRIPTION:
URL:https://ebc-waiblingen.de/termin/gebetsabend-69/
LOCATION:EBC Waiblingen\, Bahnhofstraße 5\, Waiblingen\, 71332\, Germany
CATEGORIES:Gottesdienste
END:VEVENT
BEGIN:VEVENT
DTSTART;TZID=Europe/Paris:20241229T103000
DTEND;TZID=Europe/Paris:20241229T123000
DTSTAMP:20260420T164604
CREATED:20230827T200201Z
LAST-MODIFIED:20241025T171815Z
UID:2190-1735468200-1735475400@ebc-waiblingen.de
SUMMARY:Gottesdienst
DESCRIPTION:
URL:https://ebc-waiblingen.de/termin/gottesdienst-68/
LOCATION:EBC Waiblingen\, Bahnhofstraße 5\, Waiblingen\, 71332\, Germany
CATEGORIES:Gottesdienste
END:VEVENT
BEGIN:VEVENT
DTSTART;TZID=Europe/Paris:20241225T103000
DTEND;TZID=Europe/Paris:20241225T120000
DTSTAMP:20260420T164604
CREATED:20230818T140642Z
LAST-MODIFIED:20241219T204250Z
UID:2206-1735122600-1735128000@ebc-waiblingen.de
SUMMARY:Weihnachtsgottesdienst
DESCRIPTION:
URL:https://ebc-waiblingen.de/termin/gebetsabend-68/
LOCATION:EBC Waiblingen\, Bahnhofstraße 5\, Waiblingen\, 71332\, Germany
CATEGORIES:Gottesdienste
END:VEVENT
BEGIN:VEVENT
DTSTART;TZID=Europe/Paris:20241222T103000
DTEND;TZID=Europe/Paris:20241222T123000
DTSTAMP:20260420T164604
CREATED:20230827T200201Z
LAST-MODIFIED:20241025T171720Z
UID:2185-1734863400-1734870600@ebc-waiblingen.de
SUMMARY:Gottesdienst
DESCRIPTION:
URL:https://ebc-waiblingen.de/termin/gottesdienst-67/
LOCATION:EBC Waiblingen\, Bahnhofstraße 5\, Waiblingen\, 71332\, Germany
CATEGORIES:Gottesdienste
END:VEVENT
BEGIN:VEVENT
DTSTART;TZID=Europe/Paris:20241218T190000
DTEND;TZID=Europe/Paris:20241218T200000
DTSTAMP:20260420T164604
CREATED:20230818T140642Z
LAST-MODIFIED:20241025T172534Z
UID:2204-1734548400-1734552000@ebc-waiblingen.de
SUMMARY:Gebetsabend
DESCRIPTION:
URL:https://ebc-waiblingen.de/termin/gebetsabend-67/
LOCATION:EBC Waiblingen\, Bahnhofstraße 5\, Waiblingen\, 71332\, Germany
CATEGORIES:Gottesdienste
END:VEVENT
BEGIN:VEVENT
DTSTART;TZID=Europe/Paris:20241215T103000
DTEND;TZID=Europe/Paris:20241215T123000
DTSTAMP:20260420T164604
CREATED:20230827T200201Z
LAST-MODIFIED:20241025T171627Z
UID:2183-1734258600-1734265800@ebc-waiblingen.de
SUMMARY:Gottesdienst
DESCRIPTION:
URL:https://ebc-waiblingen.de/termin/gottesdienst-66/
LOCATION:EBC Waiblingen\, Bahnhofstraße 5\, Waiblingen\, 71332\, Germany
CATEGORIES:Gottesdienste
END:VEVENT
BEGIN:VEVENT
DTSTART;TZID=Europe/Paris:20241211T190000
DTEND;TZID=Europe/Paris:20241211T200000
DTSTAMP:20260420T164604
CREATED:20230818T140642Z
LAST-MODIFIED:20241025T172445Z
UID:2202-1733943600-1733947200@ebc-waiblingen.de
SUMMARY:Gebetsabend
DESCRIPTION:
URL:https://ebc-waiblingen.de/termin/gebetsabend-66/
LOCATION:EBC Waiblingen\, Bahnhofstraße 5\, Waiblingen\, 71332\, Germany
CATEGORIES:Gottesdienste
END:VEVENT
BEGIN:VEVENT
DTSTART;TZID=Europe/Paris:20241208T103000
DTEND;TZID=Europe/Paris:20241208T123000
DTSTAMP:20260420T164604
CREATED:20230827T200201Z
LAST-MODIFIED:20241025T171513Z
UID:2181-1733653800-1733661000@ebc-waiblingen.de
SUMMARY:Gottesdienst
DESCRIPTION:
URL:https://ebc-waiblingen.de/termin/gottesdienst-65/
LOCATION:EBC Waiblingen\, Bahnhofstraße 5\, Waiblingen\, 71332\, Germany
CATEGORIES:Gottesdienste
END:VEVENT
BEGIN:VEVENT
DTSTART;TZID=Europe/Paris:20241204T190000
DTEND;TZID=Europe/Paris:20241204T200000
DTSTAMP:20260420T164604
CREATED:20230818T140642Z
LAST-MODIFIED:20241025T172356Z
UID:2200-1733338800-1733342400@ebc-waiblingen.de
SUMMARY:Gebetsabend
DESCRIPTION:
URL:https://ebc-waiblingen.de/termin/gebetsabend-65/
LOCATION:EBC Waiblingen\, Bahnhofstraße 5\, Waiblingen\, 71332\, Germany
CATEGORIES:Gottesdienste
END:VEVENT
BEGIN:VEVENT
DTSTART;TZID=Europe/Paris:20241201T103000
DTEND;TZID=Europe/Paris:20241201T123000
DTSTAMP:20260420T164604
CREATED:20230827T200201Z
LAST-MODIFIED:20241025T171407Z
UID:2179-1733049000-1733056200@ebc-waiblingen.de
SUMMARY:Gottesdienst
DESCRIPTION:
URL:https://ebc-waiblingen.de/termin/gottesdienst-64/
LOCATION:EBC Waiblingen\, Bahnhofstraße 5\, Waiblingen\, 71332\, Germany
CATEGORIES:Gottesdienste
END:VEVENT
BEGIN:VEVENT
DTSTART;TZID=Europe/Paris:20241127T190000
DTEND;TZID=Europe/Paris:20241127T200000
DTSTAMP:20260420T164604
CREATED:20230818T140642Z
LAST-MODIFIED:20241025T172303Z
UID:2198-1732734000-1732737600@ebc-waiblingen.de
SUMMARY:Gebetsabend
DESCRIPTION:
URL:https://ebc-waiblingen.de/termin/gebetsabend-64/
LOCATION:EBC Waiblingen\, Bahnhofstraße 5\, Waiblingen\, 71332\, Germany
CATEGORIES:Gottesdienste
END:VEVENT
BEGIN:VEVENT
DTSTART;TZID=Europe/Paris:20241124T103000
DTEND;TZID=Europe/Paris:20241124T123000
DTSTAMP:20260420T164604
CREATED:20230827T200201Z
LAST-MODIFIED:20241025T171242Z
UID:2177-1732444200-1732451400@ebc-waiblingen.de
SUMMARY:Gottesdienst
DESCRIPTION:
URL:https://ebc-waiblingen.de/termin/gottesdienst-63/
LOCATION:EBC Waiblingen\, Bahnhofstraße 5\, Waiblingen\, 71332\, Germany
CATEGORIES:Gottesdienste
END:VEVENT
BEGIN:VEVENT
DTSTART;TZID=Europe/Paris:20241120T190000
DTEND;TZID=Europe/Paris:20241120T200000
DTSTAMP:20260420T164604
CREATED:20230818T140642Z
LAST-MODIFIED:20241025T172213Z
UID:2196-1732129200-1732132800@ebc-waiblingen.de
SUMMARY:Gebetsabend
DESCRIPTION:
URL:https://ebc-waiblingen.de/termin/gebetsabend-63/
LOCATION:EBC Waiblingen\, Bahnhofstraße 5\, Waiblingen\, 71332\, Germany
CATEGORIES:Gottesdienste
END:VEVENT
BEGIN:VEVENT
DTSTART;TZID=Europe/Paris:20241117T103000
DTEND;TZID=Europe/Paris:20241117T123000
DTSTAMP:20260420T164604
CREATED:20230827T200201Z
LAST-MODIFIED:20241025T171145Z
UID:2175-1731839400-1731846600@ebc-waiblingen.de
SUMMARY:Gottesdienst
DESCRIPTION:
URL:https://ebc-waiblingen.de/termin/gottesdienst-62/
LOCATION:EBC Waiblingen\, Bahnhofstraße 5\, Waiblingen\, 71332\, Germany
CATEGORIES:Gottesdienste
END:VEVENT
BEGIN:VEVENT
DTSTART;TZID=Europe/Paris:20241113T190000
DTEND;TZID=Europe/Paris:20241113T200000
DTSTAMP:20260420T164604
CREATED:20230818T140642Z
LAST-MODIFIED:20241025T172121Z
UID:2194-1731524400-1731528000@ebc-waiblingen.de
SUMMARY:Gebetsabend
DESCRIPTION:
URL:https://ebc-waiblingen.de/termin/gebetsabend-62/
LOCATION:EBC Waiblingen\, Bahnhofstraße 5\, Waiblingen\, 71332\, Germany
CATEGORIES:Gottesdienste
END:VEVENT
BEGIN:VEVENT
DTSTART;TZID=Europe/Paris:20241110T103000
DTEND;TZID=Europe/Paris:20241110T123000
DTSTAMP:20260420T164604
CREATED:20230827T200201Z
LAST-MODIFIED:20241025T171041Z
UID:2173-1731234600-1731241800@ebc-waiblingen.de
SUMMARY:Gottesdienst
DESCRIPTION:
URL:https://ebc-waiblingen.de/termin/gottesdienst-61/
LOCATION:EBC Waiblingen\, Bahnhofstraße 5\, Waiblingen\, 71332\, Germany
CATEGORIES:Gottesdienste
END:VEVENT
BEGIN:VEVENT
DTSTART;TZID=Europe/Paris:20241106T190000
DTEND;TZID=Europe/Paris:20241106T200000
DTSTAMP:20260420T164604
CREATED:20230818T140642Z
LAST-MODIFIED:20241025T172026Z
UID:2192-1730919600-1730923200@ebc-waiblingen.de
SUMMARY:Gebetsabend
DESCRIPTION:
URL:https://ebc-waiblingen.de/termin/gebetsabend-61/
LOCATION:EBC Waiblingen\, Bahnhofstraße 5\, Waiblingen\, 71332\, Germany
CATEGORIES:Gottesdienste
END:VEVENT
BEGIN:VEVENT
DTSTART;TZID=Europe/Paris:20241103T103000
DTEND;TZID=Europe/Paris:20241103T123000
DTSTAMP:20260420T164604
CREATED:20230827T200201Z
LAST-MODIFIED:20241025T170726Z
UID:2171-1730629800-1730637000@ebc-waiblingen.de
SUMMARY:Gottesdienst
DESCRIPTION:
URL:https://ebc-waiblingen.de/termin/gottesdienst-60/
LOCATION:EBC Waiblingen\, Bahnhofstraße 5\, Waiblingen\, 71332\, Germany
CATEGORIES:Gottesdienste
END:VEVENT
BEGIN:VEVENT
DTSTART;TZID=Europe/Paris:20241030T190000
DTEND;TZID=Europe/Paris:20241030T200000
DTSTAMP:20260420T164604
CREATED:20230818T140642Z
LAST-MODIFIED:20240930T163517Z
UID:2086-1730314800-1730318400@ebc-waiblingen.de
SUMMARY:Gebetsabend
DESCRIPTION:
URL:https://ebc-waiblingen.de/termin/gebetsabend-60/
LOCATION:EBC Waiblingen\, Bahnhofstraße 5\, Waiblingen\, 71332\, Germany
CATEGORIES:Gottesdienste
END:VEVENT
BEGIN:VEVENT
DTSTART;TZID=Europe/Paris:20241027T103000
DTEND;TZID=Europe/Paris:20241027T123000
DTSTAMP:20260420T164604
CREATED:20230827T200201Z
LAST-MODIFIED:20240930T163345Z
UID:2076-1730025000-1730032200@ebc-waiblingen.de
SUMMARY:Gottesdienst
DESCRIPTION:
URL:https://ebc-waiblingen.de/termin/gottesdienst-59/
LOCATION:EBC Waiblingen\, Bahnhofstraße 5\, Waiblingen\, 71332\, Germany
CATEGORIES:Gottesdienste
END:VEVENT
BEGIN:VEVENT
DTSTART;TZID=Europe/Paris:20241023T190000
DTEND;TZID=Europe/Paris:20241023T200000
DTSTAMP:20260420T164604
CREATED:20230818T140642Z
LAST-MODIFIED:20240930T163457Z
UID:2084-1729710000-1729713600@ebc-waiblingen.de
SUMMARY:Gebetsabend
DESCRIPTION:
URL:https://ebc-waiblingen.de/termin/gebetsabend-59/
LOCATION:EBC Waiblingen\, Bahnhofstraße 5\, Waiblingen\, 71332\, Germany
CATEGORIES:Gottesdienste
END:VEVENT
END:VCALENDAR